BEGIN:VCALENDAR
VERSION:2.0
PRODID:-//wp-events-plugin.com//7.2.3.1//EN
BEGIN:VEVENT
UID:30@deq.fe.up.pt
DTSTART:20220303T110000Z
DTEND:20220304T110000Z
DTSTAMP:20220303T100010Z
URL:https://deq.fe.up.pt/events/provas-de-agregacao-prof-helena-soares/
SUMMARY:Provas de Agregação: Prof. Helena Soares
DESCRIPTION:Decorre nos próximos dias 03 e 04 de março de 2022\, às 11h0
 0\, na sala de Atos da FEUP\, as Provas de Agregação no ramo de conhecim
 ento em Engenharia do Ambiente\, com o tópico “Reciclagem de metais a p
 artir de fontes secundárias: Um contributo para a economia circular”\, 
 requeridas pela Doutora Helena Maria Vieira Monteiro Soares.\n\nMais infor
 mações em https://sigarra.up.pt/feup/pt/noticias_geral.ver_noticia?p_nr=
 128370
END:VEVENT
END:VCALENDAR