BEGIN:VCALENDAR
VERSION:2.0
PRODID:-//wp-events-plugin.com//7.2.3.1//EN
BEGIN:VEVENT
UID:33@deq.fe.up.pt
DTSTART:20220418T103000Z
DTEND:20220419T103000Z
DTSTAMP:20220413T153205Z
URL:https://deq.fe.up.pt/events/provas-de-agregacao-prof-fernando-rocha/
SUMMARY:Provas de Agregação: Prof. Fernando Rocha
DESCRIPTION:Decorre nos próximos dias 18 e 19 de abril de 2022\, às 10h30
 \, na sala de Atos da FEUP\, as Provas de Agregação no ramo de conhecime
 nto em Engenharia Química e Biológica\, com o tópico “Cristalização
  de Proteínas”\, requeridas pelo Doutor Fernando Alberto Nogueira da Ro
 cha.\n\nMais informações em https://sigarra.up.pt/feup/pt/noticias_geral
 .ver_noticia?p_nr=131010
END:VEVENT
END:VCALENDAR