BEGIN:VCALENDAR
VERSION:2.0
PRODID:-//wp-events-plugin.com//7.2.3.1//EN
BEGIN:VEVENT
UID:48@deq.fe.up.pt
DTSTART:20230524T090000Z
DTEND:20230526T090000Z
DTSTAMP:20230519T085838Z
URL:https://deq.fe.up.pt/events/palestra-e-workshop-prof-m-ali-haider-iit-
 delhi/
SUMMARY:Palestra e Workshop :: Prof. M. Ali Haider\, IIT Delhi
DESCRIPTION:No âmbito de uma mobilidade ERASMUS o Professor M. Ali Haider\
 , IIT Delhi estárá presente no DEQ entre os dias 24 e 26 de maio. O Prof
 essor M. Ali Haider é investigador no Centro de Investigação em Catáli
 se da Universidade Técnica de Munique e os seus interesses de investigaç
 ão centram-se na catálise heterogénea experimental e teórica aplicada 
 a energia renovável e produtos químicos.\n\nDurante a sua estadia estão
  previstas duas atividades:\n\n 	Uma palestra com o título “Perspective
 s in catalysis on modeling the reactivity of active sites”\, que terá l
 ugar na Sala de Atos do DEQ (E107)\, no dia 24\, às 9h00\, com uma duraç
 ão aproximada de 45 min.\n 	Um workshop no tema “Density Functional The
 ory Simulations and Machine Learning for Computational Catalysis”\, tend
 o como destinatários não especialistas no tema e que constará de 3 sess
 ões (cerca de 2 h cada)\, a decorrer na sala E107 de acordo com o program
 a e horário:\n\n\n 	\n\n 	Session 1: Introduction to DFT for heterogeneou
 s catalysis\, construction of a catalytic nanoparticle and surfaces\; dia 
 24 das 10h00 às 12h00\n 	Session 2: Estimation of adsorption and activati
 on energies using DFT calculations\; dia 25 das 10h00 às 12h00\n 	Session
  3: Prediction of catalytic descriptors using a machine learning approach\
 ; dia 26 das 10h00 às 12h00\n\n\n\nPara a palestra a entrada é livre\, p
 ara o workshop solicita-se a inscrição prévia no link https://forms.gle
 /6UAqSthxFsze1GPX9 até ao dia 22\, limitada à capacidade da sala (40 lug
 ares).
ATTACH;FMTTYPE=image/jpeg:https://deq.fe.up.pt/wp-content/uploads/2023/05/
 haider.png
END:VEVENT
END:VCALENDAR